BEGIN:VCALENDAR
VERSION:2.0
PRODID:-//Ecole Française de Danse - ECPv6.15.20//NONSGML v1.0//EN
CALSCALE:GREGORIAN
METHOD:PUBLISH
X-ORIGINAL-URL:https://ecolefrancaisededanse.com
X-WR-CALDESC:Eventos para Ecole Française de Danse
REFRESH-INTERVAL;VALUE=DURATION:PT1H
X-Robots-Tag:noindex
X-PUBLISHED-TTL:PT1H
BEGIN:VTIMEZONE
TZID:Europe/Madrid
BEGIN:DAYLIGHT
TZOFFSETFROM:+0100
TZOFFSETTO:+0200
TZNAME:CEST
DTSTART:20240331T010000
END:DAYLIGHT
BEGIN:STANDARD
TZOFFSETFROM:+0200
TZOFFSETTO:+0100
TZNAME:CET
DTSTART:20241027T010000
END:STANDARD
BEGIN:DAYLIGHT
TZOFFSETFROM:+0100
TZOFFSETTO:+0200
TZNAME:CEST
DTSTART:20250330T010000
END:DAYLIGHT
BEGIN:STANDARD
TZOFFSETFROM:+0200
TZOFFSETTO:+0100
TZNAME:CET
DTSTART:20251026T010000
END:STANDARD
BEGIN:DAYLIGHT
TZOFFSETFROM:+0100
TZOFFSETTO:+0200
TZNAME:CEST
DTSTART:20260329T010000
END:DAYLIGHT
BEGIN:STANDARD
TZOFFSETFROM:+0200
TZOFFSETTO:+0100
TZNAME:CET
DTSTART:20261025T010000
END:STANDARD
END:VTIMEZONE
BEGIN:VEVENT
DTSTART;TZID=Europe/Madrid:20250114T180000
DTEND;TZID=Europe/Madrid:20250114T203000
DTSTAMP:20260426T060517
CREATED:20250106T192927Z
LAST-MODIFIED:20250107T210013Z
UID:51850-1736877600-1736886600@ecolefrancaisededanse.com
SUMMARY:Clase magistral Cristina Casa\, bailarina principal CND
DESCRIPTION:No te pierdas esta oportunidad única! Clase magistral de danza clásica con Cristina Casa \nAprovecha la oportunidad de tomar clase con una de las mejores bailarinas de la escena de la Danza actual. Marca en tu calendario el próximo 14 de enero\, porque tienes una cita imprescindible. \nLa bailarina principal de la Compañía Nacional de Danza\, Cristina Casa\, estará impartiendo una clase magistral de danza clásica diseñada para inspirar\, desafiar y enriquecer tu experiencia como bailarín o bailarina. \nCristina Casa es reconocida por su extraordinaria técnica\, elegancia y presencia escénica\, características que la han llevado a brillar en los escenarios más prestigiosos del mundo. Durante esta clase magistral\, compartirá su experiencia y conocimientos\, ofreciendo consejos prácticos y personalizados que te ayudarán a llevar tu danza al siguiente nivel. \nRecuerda reservar escribiéndonos a info@ecolefrancaisededanse.com \n 
URL:https://ecolefrancaisededanse.com/evento/clase-magistral-cristina-casa/
CATEGORIES:ECOLE,MASTERCLASS
ATTACH;FMTTYPE=image/webp:https://ecolefrancaisededanse.com/wp-content/uploads/2025/01/CRISTINA-CASA-CND-_maestra-invitada.webp
END:VEVENT
END:VCALENDAR